BEGIN:VCALENDAR
VERSION:2.0
PRODID:-//Tukios.com/
BEGIN:VEVENT
UID:51d08c7b-36d3-4ae8-bd76-23e3d08bdf3c@www.walterfuneralhome.com
DTSTAMP:20260421T193318Z
DTSTART:20260424T133000Z
DTEND:20260424T143000Z
SUMMARY:Visitation
DESCRIPTION:
URL:https://www.walterfuneralhome.com/obituaries/constance-connie-pieper
LOCATION:Christ the King Catholic Church 4100 Harvest Lane  Toledo OH 
	43623
GEO:41.6926296;-83.6321787
END:VEVENT
END:VCALENDAR