BEGIN:VCALENDAR
VERSION:2.0
PRODID:-//Tukios.com/
BEGIN:VEVENT
UID:8aac32ff-bf61-4840-acc6-c85a66ba882d@www.walterfuneralhome.com
DTSTAMP:20260421T193719Z
DTSTART:20260424T143000Z
DTEND:20260424T153000Z
SUMMARY:Mass
DESCRIPTION:
URL:https://www.walterfuneralhome.com/obituaries/constance-connie-pieper
LOCATION:Christ the King Catholic Church 4100 Harvest Lane  Toledo OH 
	43623
GEO:41.6926296;-83.6321787
END:VEVENT
END:VCALENDAR