BEGIN:VCALENDAR
VERSION:2.0
PRODID:-//Tukios.com/
BEGIN:VEVENT
UID:0fdc3f3d-6807-4465-81b5-6c20347c0e01@www.walterfuneralhome.com
DTSTAMP:20260421T193711Z
DTSTART:20260423T180000Z
DTEND:20260424T000000Z
SUMMARY:Visitation
DESCRIPTION:
URL:https://www.walterfuneralhome.com/obituaries/constance-connie-pieper
LOCATION:Walter Funeral Home 4653 Glendale Avenue  Toledo OH 43614
GEO:41.6072116;-83.6512647
END:VEVENT
END:VCALENDAR